BEGIN:VCALENDAR
VERSION:2.0
PRODID:-//Cuddington Parish Council//Meeting Calendar//EN
CALSCALE:GREGORIAN
METHOD:PUBLISH
BEGIN:VEVENT
UID:73352-20260316@cuddingtonparish.gov.uk
DTSTAMP:20260422T130125Z
DTSTART;VALUE=DATE:20260316
DTEND;VALUE=DATE:20260317
SUMMARY:Full Council meeting 16th March 2026
DESCRIPTION:Full Council Meeting\nView details: https://cuddingtonparish.gov.uk/meetings/statutory-meeting-2/
URL:https://cuddingtonparish.gov.uk/meetings/statutory-meeting-2/
END:VEVENT
END:VCALENDAR
