BEGIN:VCALENDAR
VERSION:2.0
PRODID:-//Cuddington Parish Council//Meeting Calendar//EN
CALSCALE:GREGORIAN
METHOD:PUBLISH
BEGIN:VEVENT
UID:71390-20250818@cuddingtonparish.gov.uk
DTSTAMP:20260424T085101Z
DTSTART;VALUE=DATE:20250818
DTEND;VALUE=DATE:20250819
SUMMARY:Extra Ordinary Council Meeting 18th August 2025
DESCRIPTION:Full Council Meeting\nView details: https://cuddingtonparish.gov.uk/meetings/extra-ordinary-council-meeting-18th-august-2025/
URL:https://cuddingtonparish.gov.uk/meetings/extra-ordinary-council-meeting-18th-august-2025/
END:VEVENT
END:VCALENDAR
