BEGIN:VCALENDAR
VERSION:2.0
PRODID:-//Cuddington Parish Council//Meeting Calendar//EN
CALSCALE:GREGORIAN
METHOD:PUBLISH
BEGIN:VEVENT
UID:71337-20250721@cuddingtonparish.gov.uk
DTSTAMP:20260424T120917Z
DTSTART;VALUE=DATE:20250721
DTEND;VALUE=DATE:20250722
SUMMARY:Full Council Meeting 17th July
DESCRIPTION:Full Council Meeting\nView details: https://cuddingtonparish.gov.uk/meetings/full-council-meeting-21st-july-2025/
URL:https://cuddingtonparish.gov.uk/meetings/full-council-meeting-21st-july-2025/
END:VEVENT
END:VCALENDAR
