BEGIN:VCALENDAR
VERSION:2.0
PRODID:-//Cuddington Parish Council//Meeting Calendar//EN
CALSCALE:GREGORIAN
METHOD:PUBLISH
BEGIN:VEVENT
UID:71266-20250616@cuddingtonparish.gov.uk
DTSTAMP:20260424T135516Z
DTSTART;VALUE=DATE:20250616
DTEND;VALUE=DATE:20250617
SUMMARY:Full Council  Meeting 16th June 2025
DESCRIPTION:Full Council Meeting\nView details: https://cuddingtonparish.gov.uk/meetings/full-council-meeting-16th-june-2025/
URL:https://cuddingtonparish.gov.uk/meetings/full-council-meeting-16th-june-2025/
END:VEVENT
END:VCALENDAR
