BEGIN:VCALENDAR
VERSION:2.0
PRODID:-//Cuddington Parish Council//Meeting Calendar//EN
CALSCALE:GREGORIAN
METHOD:PUBLISH
BEGIN:VEVENT
UID:70825-20250317@cuddingtonparish.gov.uk
DTSTAMP:20260424T115118Z
DTSTART;VALUE=DATE:20250317
DTEND;VALUE=DATE:20250318
SUMMARY:Full Council meeting 17th March 2025
DESCRIPTION:Full Council Meeting\nView details: https://cuddingtonparish.gov.uk/meetings/full-council-meeting-17th-march-2025/
URL:https://cuddingtonparish.gov.uk/meetings/full-council-meeting-17th-march-2025/
END:VEVENT
END:VCALENDAR
