BEGIN:VCALENDAR
VERSION:2.0
PRODID:-//Cuddington Parish Council//Meeting Calendar//EN
CALSCALE:GREGORIAN
METHOD:PUBLISH
BEGIN:VEVENT
UID:70562-20210101@cuddingtonparish.gov.uk
DTSTAMP:20260424T114724Z
DTSTART;VALUE=DATE:20210101
DTEND;VALUE=DATE:20210102
SUMMARY:Full Council Meetings &#8211\\; 2021
DESCRIPTION:Full Council Meeting\nView details: https://cuddingtonparish.gov.uk/meetings/full-council-meetings-2021/
URL:https://cuddingtonparish.gov.uk/meetings/full-council-meetings-2021/
END:VEVENT
END:VCALENDAR
