BEGIN:VCALENDAR
VERSION:2.0
PRODID:-//Cuddington Parish Council//Meeting Calendar//EN
CALSCALE:GREGORIAN
METHOD:PUBLISH
BEGIN:VEVENT
UID:70485-20240916@cuddingtonparish.gov.uk
DTSTAMP:20260424T114857Z
DTSTART;VALUE=DATE:20240916
DTEND;VALUE=DATE:20240917
SUMMARY:Full Council Meeting &#8211\\; 16 September 2024
DESCRIPTION:Full Council Meeting\nView details: https://cuddingtonparish.gov.uk/meetings/full-council-meeting-16-september-2024/
URL:https://cuddingtonparish.gov.uk/meetings/full-council-meeting-16-september-2024/
END:VEVENT
END:VCALENDAR
